Workbook

Sheet 一覧表
D1: 入 力 表 | I1: =ROUNDDOWN(I2/10,0) -> 0 | J1: =RIGHT(I2,1)*1 -> 8 | K1: =ROUNDDOWN(K2/10,0) -> 1 | L1: =RIGHT(K2,1)*1 -> 0 | M1: =ROUNDDOWN(M2/10,0) -> 2 | N1: =RIGHT(M2,1)*1 -> 5 | AD1: 1 | AE1: 2 | AF1: 3 | AG1: 4 | AH1: 5 | AI1: 6 | AJ1: 7 | AK1: 8 | AL1: 9 | AM1: 0
C2: 選 挙 日 | G2: 令 | H2: 和 | I2: 8 | J2: 年 | K2: 10 | L2: 月 | M2: 25 | N2: 日 | O2: 執 | P2: 行 | Q2: =CONCATENATE(G2,H2,DBCS(I2),J2,DBCS(K2),L2,DBCS(M2),N2) -> 令和８年１０月２５日 | AD2: 一 | AE2: 二 | AF2: 三 | AG2: 四 | AH2: 五 | AI2: 六 | AJ2: 七 | AK2: 八 | AL2: 九
C3: 選 挙 名 | G3: 美郷町議会議員補欠選挙 | Q3: =IF(I1=0,"",IF(I1=1,"十",IF(I1>=2,CONCATENATE(LOOKUP(I1,$AD$1:$AM$1,$AD$2:$AM$2),"十","")))) | R3: =IF(J1>=1,LOOKUP(J1,$AD$1:$AM$1,$AD$2:$AM$2),"") -> 八 | S3: =IF(K1=0,"",IF(K1=1,"十",IF(K1>=2,CONCATENATE(LOOKUP(K1,$AD$1:$AM$1,$AD$2:$AM$2),"十","")))) -> 十 | T3: =IF(H1>=1,LOOKUP(H1,$AD$1:$AM$1,$AD$2:$AM$2),"") | U3: =IF(I1=0,"",IF(I1=1,"十",IF(I1>=2,CONCATENATE(LOOKUP(I1,$AD$1:$AM$1,$AD$2:$AM$2),"十","")))) | V3: =IF(J1>=1,LOOKUP(J1,$AD$1:$AM$1,$AD$2:$AM$2),"") -> 八 | W3: =CONCATENATE(C2,D2,M3,N3,F2,O3,T3,H2,U3,V3,J2) -> 選 挙 日和八年 | X3: =IF(L1>=1,LOOKUP(L1,$AD$1:$AM$1,$AD$2:$AM$2),"") | Y3: =IF(M1=0,"",IF(M1=1,"十",IF(M1>=2,CONCATENATE(LOOKUP(M1,$AD$1:$AM$1,$AD$2:$AM$2),"十","")))) -> 二十 | Z3: =IF(N1>=1,LOOKUP(N1,$AD$1:$AM$1,$AD$2:$AM$2),"") -> 五 | AA3: =CONCATENATE(G2,H2,Q3,R3,J2,S3,X3,L2,Y3,Z3,N2) -> 令和八年十月二十五日
C4: 委員長名 | G4: 渡利 八壽男
C5: 選挙長名 | G5: 渡利 八壽男
C6: 告 示 日 | G6: 令 | H6: 和 | I6: 8 | J6: 年 | K6: 10 | L6: 月 | M6: 20 | N6: 日 | O6: 告 | P6: 示 | Q6: =CONCATENATE(G6,H6,DBCS(I6),J6,DBCS(K6),L6,DBCS(M6),N6) -> 令和８年１０月２０日
I7: =ROUNDDOWN(I6/10,0) -> 0 | J7: =RIGHT(I6,1)*1 -> 8 | K7: =ROUNDDOWN(K6/10,0) -> 1 | L7: =RIGHT(K6,1)*1 -> 0 | M7: =ROUNDDOWN(M8/10,0) -> 1 | N7: =RIGHT(M8,1)*1 -> 9 | Q7: =IF(I7=0,"",IF(I7=1,"十",IF(I7>=2,CONCATENATE(LOOKUP(I7,$AD$1:$AM$1,$AD$2:$AM$2),"十","")))) | R7: =IF(J7>=1,LOOKUP(J7,$AD$1:$AM$1,$AD$2:$AM$2),"") -> 八 | S7: =IF(K7=0,"",IF(K7=1,"十",IF(K7>=2,CONCATENATE(LOOKUP(K7,$AD$1:$AM$1,$AD$2:$AM$2),"十","")))) -> 十 | T7: =IF(H7>=1,LOOKUP(H7,$AD$1:$AM$1,$AD$2:$AM$2),"") | U7: =IF(I7=0,"",IF(I7=1,"十",IF(I7>=2,CONCATENATE(LOOKUP(I7,$AD$1:$AM$1,$AD$2:$AM$2),"十","")))) | V7: =IF(J7>=1,LOOKUP(J7,$AD$1:$AM$1,$AD$2:$AM$2),"") -> 八 | W7: =CONCATENATE(C6,D6,M7,N7,F6,O7,T7,H6,U7,V7,J6) -> 告 示 日19和八年 | X7: =IF(L7>=1,LOOKUP(L7,$AD$1:$AM$1,$AD$2:$AM$2),"") | Y7: =IF(M7=0,"",IF(M7=1,"十",IF(M7>=2,CONCATENATE(LOOKUP(M7,$AD$1:$AM$1,$AD$2:$AM$2),"十","")))) -> 十 | Z7: =IF(N7>=1,LOOKUP(N7,$AD$1:$AM$1,$AD$2:$AM$2),"") -> 九 | AA7: =CONCATENATE(G6,H6,Q7,R7,J6,S7,X7,L6,Y7,Z7,N6) -> 令和八年十月十九日 | BJ7: 【執行日】
M8: =M6-1 -> 19
C9: =CONCATENATE(G2,H2,DBCS(I2),J2,DBCS(K2),L2,DBCS(M2),N2) -> 令和８年１０月２５日 | K9: 執行 | BJ9: 令和八年十月二十五日
F10: =G3 -> 美郷町議会議員補欠選挙 | U10: 届出関係諸用紙一覧表
C11: 様式 | E11: 名称 | T11: 本人届出 | X11: 推薦届出 | AB11: 備考
T12: 本人 | V12: 代理人 | X12: 本人 | Z12: 代理人
C13: 1 | E13: 候補者届出書（本人届出） | T13: ○ | V13: ○ | AB13: 本人による届出の場合
C14: 2 | E14: 候補者届出書（推薦者届出） | X14: ○ | Z14: ○ | AB14: 推薦者による届出の場合
C15: 3 | E15: 候補者推薦届出承諾書 | X15: ○ | Z15: ○ | AB15: 推薦者による届出の場合
C16: 4 | E16: 宣誓書 | T16: ○ | V16: ○ | X16: ○ | Z16: ○ | AB16: 候補者となることができない者でない
C17: 5 | E17: 通称認定申請書 | T17: △ | V17: △ | X17: △ | Z17: △ | AB17: 通称を用いようとする場合
C18: 6 | E18: 通称使用認定書 | AB18: 通称認定の場合（委員会の発行）
C19: 7 | E19: 所属党派証明書 | T19: △ | V19: △ | X19: △ | Z19: △ | AB19: 無所属の候補者は必要なし
C20: 8 | E20: 選挙人名簿登録証明書（推薦者） | AB20: 推薦届出の場合（委員会の発行）
C21: 9 | E21: 立候補届出事務代行証明書 | V21: ○ | Z21: ○ | AB21: 本人・推薦代表以外の者による届出の場合
C22: 10 | E22: 立候補届出事務代行疎明書 | Z22: ○ | AB22: 本人・推薦代表以外の者による届出の場合
C23: 11 | E23: 推薦届出代表者証明書 | X23: △ | Z23: △ | AB23: 推薦届出者が２人以上ある場合
C24: 12 | E24: 候補者辞退届 | T24: △ | V24: △ | X24: △ | Z24: △ | AB24: 立候補を辞退する場合
C25: 13 | E25: 選挙事務所設置届 | T25: △ | V25: △ | X25: △ | Z25: △ | AB25: 選挙事務所を設置する場合
C26: 14 | E26: 選挙事務所移動届 | T26: △ | V26: △ | X26: △ | Z26: △ | AB26: 選挙事務所を移動する場合
C27: 15 | E27: 選挙事務所設置（移動）承諾書 | X27: △ | Z27: △ | AB27: 推薦者が行う場合（設置届13,移動届14）に添付
C28: 16 | E28: 選挙立会人となるべき者の申出書（兼承諾書） | T28: △ | V28: △ | X28: △ | Z28: △ | AB28: 選挙立会人の申し出がある場合
C29: 17 | E29: 出納責任者選任届 | T29: ○ | V29: ○ | X29: ○ | Z29: ○ | AB29: 候補者以外の者が出納責任者となる場合
C30: 18 | E30: 出納責任者異動届 | T30: △ | V30: △ | X30: △ | Z30: △ | AB30: 出納責任者に異動がある場合
C31: 19 | E31: 出納責任者解任書 | AB31: 出納責任者を解任する場合（異動届18に添付）
C32: 20 | E32: 出納責任者辞任書 | AB32: 出納責任者が辞任する場合（異動届18に添付）
C33: 21 | E33: 出納責任者職務代行開始（終了）届 | T33: △ | V33: △ | X33: △ | Z33: △ | AB33: 出納責任者を他の者が代行する場合
C34: 22 | E34: 出納責任者の支出できる金額の最高額 | AB34: 選管の示した金額を記入して作成
C35: 23 | E35: 報酬を支給する者の届出書 | T35: △ | V35: △ | X35: △ | Z35: △ | AB35: 報酬・賃金を支給する場合（収支報告書記載）
C36: 24 | E36: 選挙運動収支報告書 | T36: ○ | V36: ○ | X36: ○ | Z36: ○ | AB36: 選挙期日から15日以内に提出
C37: 25 | E37: 領収書を徴難い事情があった支出の明細書 | T37: △ | V37: △ | X37: △ | Z37: △ | AB37: 領収書がない場合（報告書24に添付）
C38: 26 | E38: 選挙公報掲載申請書 | T38: △ | V38: △ | X38: △ | Z38: △ | AB38: 選挙公報へ掲載する場合
C39: 27 | E39: 選挙公報掲載文（掲載写真）撤回申請書 | T39: △ | V39: △ | X39: △ | Z39: △ | AB39: 選挙公報へ掲載を撤回する場合
C40: 28 | E40: 選挙公報掲載文修正（掲載写真取替）申請書 | T40: △ | V40: △ | X40: △ | Z40: △ | AB40: 提出した公報掲載文（写真）の修正の場合
...

Sheet 1.候補者届出書（本人）
AV1: 様式１
AL2: =一覧表!G3&"候補者届出書（本人届出）" -> 美郷町議会議員補欠選挙候補者届出書（本人届出）
K3: 添付書類 | M3: 当該選挙に係る議員または長と兼ねることができない職にある者についてはその職名 | P3: 選挙 | S3: 一のウェブサイト等のアドレス | V3: 党派 | Y3: 生年月日 | AB3: 住所 | AE3: 本籍 | AH3: 候補者 | AP3: 受付番号 第
H4: 右のとおり関係書類を添えて立候補の届出をします。
A8: =一覧表!$F$10 -> 美郷町議会議員補欠選挙
F10: 令和
AJ11: （ふりがな）
P12: =一覧表!BJ9&" 執行" -> 令和八年十月二十五日 執行 | AP12: 号
K14: 二 | L14: 一
K15: 宣 誓 書 | L15: 供託証明書 | AP15: 受付日時
F16: 年
Y19: 年
AP20: 令和
F21: 月
A24: 選挙長 | Y24: 月
F26: 日 | AP26: 年
Y29: 日
K30: 四 | L30: 三
D31: 氏 | K31: 戸籍の謄本又は抄本 | L31: 所属政党（政治団体）証明書 | P31: =一覧表!F10 -> 美郷町議会議員補欠選挙 | V31: 職業 | AP31: 月
Y32: （満
A33: =一覧表!$G$5&" 様" -> 渡利 八壽男 様 | D33: 名
AP36: 日
Y38: 歳）
AP39: 午
AP40: 前後
AH44: 性別 | AP44: 時
AP48: 分
AM60: 備 考
I61: 六 | Q61: 五 | X61: 四 | AC61: 三 | AH61: 二 | AK61: 一
E62: ただし、候補者本人の署名その他の措置がある場合はこの限りではない。 | G62: にあつては委任状の提示又は提出及び当該代理人の本人確認書類の提示又は提出を行うこと。 | I62: 候補者本人が届け出る場合にあつては本人確認書類の提示又は提出を、その代理人が届け出る場合 | L62: 利用する一のウェブサイト等のアドレスを記載することができる。 | Q62: 「一のウェブサイト等のアドレス」欄には、選挙運動のために使用する文書図画を頒布するために | T62: 百四十二条に規定する関係にある者についてはその旨を記載しなければならない。 | V62: ない職にある者についてはその職名を記載しなければならず、地方自治法第九十二条の二又は第 | X62: 「職業」欄には、職業をなるべく詳細に記載し、当該選挙に係る議員又は長と兼ねることができ | AA62: その略称を「（略称）何々」と記載しなければならない。 | AC62: 令第八十九条第四項の場合においては、「党派」欄に当該政党その他の政治団体の名称のほか、 | AF62: 欄に「無所属」と記載しなければならない。 | AH62: 法第八十六条の四第四項に規定する政党その他の政治団体の証明書を有しない者は、「党派」 | AK62: 「生年月日」欄の年齢は、選挙の期日現在の満年齢を記載しなければならない。

Sheet 2.候補者届出書（推薦）
AY1: 様式2
AR2: =一覧表!F10&"候補者届出書（推薦届出）" -> 美郷町議会議員補欠選挙候補者届出書（推薦届出）
P3: 添付書類 | S3: 当該選挙に係る議員または長と兼ねることができない職にある者についてはその職名 | V3: 選挙 | Y3: 一のウェブサイト等のアドレス | AB3: 党派 | AE3: 生年月日 | AH3: 住所 | AK3: 本籍 | AN3: 候補者 | AV3: 受付番号 第
M4: 右のとおり推薦届出をします。
A8: =一覧表!F10 -> 美郷町議会議員補欠選挙
J10: 令和
AP11: （ふりがな）
P12: 三 | Q12: 二 | R12: 一 | V12: =一覧表!BJ9&" 執行" -> 令和八年十月二十五日 執行 | AV12: 号
P13: 供託証明書 | Q13: 選挙人名簿登録証明書 | R13: 候補者の承諾書
AV15: 受付日時
J16: 年
AE19: 年
AV20: 令和
J21: 月
A24: 選挙長 | H24: 推薦届出者 | AE24: 月
J26: 日 | AV26: 年
AE29: 日
P30: 六 | Q30: 五 | R30: 四
F31: 氏 | H31: 住 | P31: 戸籍の謄本又は抄本 | Q31: 所属党派（政治団体）証明書 | R31: 宣 誓 書 | V31: =一覧表!F10 -> 美郷町議会議員補欠選挙 | AB31: 職業 | AV31: 月
AE32: （満
A33: =一覧表!G5&" 様" -> 渡利 八壽男 様 | F33: 名 | H33: 所
AV36: 日
AE38: 歳）
AV39: 午
AV40: 前後
AN45: 性別 | AV45: 時
D46: 年
D50: 月 | AV50: 分
D54: 日
D55: 生
AP59: 備 考
M60: 六 | R60: 五 | AA60: 四 | AF60: 三 | AK60: 二 | AN60: 一
I61: ただし、推薦届出者本人の署名その他の措置がある場合はこの限りではない。 | K61: にあつては委任状の提示又は提出及び当該代理人の本人確認書類の提示又は提出を行うこと。 | M61: 推薦届出者本人が届け出る場合にあつては本人確認書類の提示又は提出を、その代理人が届け出る場合 | P61: 利用する一のウェブサイト等のアドレスを記載することができる。 | R61: 「一のウェブサイト等のアドレス」欄には、選挙運動のために使用する文書図画を頒布するために | W61: 百四十二条に規定する関係にある者についてはその旨を記載しなければならない。 | Y61: ない職にある者についてはその職名を記載しなければならず、地方自治法第九十二条の二又は第 | AA61: 「職業」欄には、職業をなるべく詳細に記載し、当該選挙に係る議員又は長と兼ねることができ | AD61: その略称を「（略称）何々」と記載しなければならない。 | AF61: 令第八十九条第四項の場合においては、「党派」欄に当該政党その他の政治団体の名称のほか、 | AI61: 欄に「無所属」と記載しなければならない。 | AK61: 法第八十六条の四第四項に規定する政党その他の政治団体の証明書を有しない者は、「党派」 | AN61: 「生年月日」欄の年齢は、選挙の期日現在の満年齢を記載しなければならない。

Sheet ３.候補者推薦届出承諾書
B1: =一覧表!BJ9&"執行の"&一覧表!F10&"の候補者となることを承諾します。" -> 令和八年十月二十五日執行の美郷町議会議員補欠選挙の候補者となることを承諾します。
U3: 様式 3
N5: =MID(B1,36,35) -> 諾します。 | P5: =MID(B1,1,35) -> 令和八年十月二十五日執行の美郷町議会議員補欠選挙の候補者となることを承
S10: 候補者推薦届出承諾書
C11: 推薦届出者
K12: 令
K14: 和
K19: 年
K24: 月
F27: 氏 | H27: 住
F29: 名 | H29: 所 | K29: 日
C36: 様
F54: ㊞

Sheet 4.宣誓書
A1: =" 私は公職選挙法第八十六条の八第一項、第八十七条第一項、第二百五十一条の二又は第二百五十一条の三の規定により"&一覧表!BJ9&"執行の"&一覧表!F10&"において、候補者となることができない者でないことを誓います。" -> 私は公職選挙法第八十六条の八第一項、第八十七条第一項、第二百五十一条の二又は第二百五十一条の三の規定により令和八年十月二十五日執行の美郷町議会議員補欠選挙において、候補者となることができない者でないことを誓います。
J3: =MID(A1,79,39) -> において、候補者となることができない者でないことを誓います。 | L3: =MID(A1,40,39) -> 第二百五十一条の三の規定により令和八年十月二十五日執行の美郷町議会議員補欠選挙 | N3: =MID(A1,1,39) -> 私は公職選挙法第八十六条の八第一項、第八十七条第一項、第二百五十一条の二又は | S3: 様式 4
Q8: 宣 誓 書
G10: 令
G12: 和
G17: 年
G22: 月
B25: 氏 | D25: 住
B27: 名 | D27: 所 | G27: 日

Sheet 5.通称認定申請書
B1: =一覧表!BJ9&"執行の"&一覧表!G3&"において公職選挙法施行令第八十九条第五項において準用する第八十八条第八項の規定により右の呼称を通称として認定されたく申請します。" -> 令和八年十月二十五日執行の美郷町議会議員補欠選挙において公職選挙法施行令第八十九条第五項において準用する第八十八条第八項の規定により右の呼称を通称として認定されたく申請します。
AA3: 様式
M6: =MID(B1,75,37) -> して認定されたく申請します。 | O6: =MID(B1,38,37) -> 八十九条第五項において準用する第八十八条第八項の規定により右の呼称を通称と | Q6: =MID(B1,1,37) -> 令和八年十月二十五日執行の美郷町議会議員補欠選挙において公職選挙法施行令第 | AA6: 5
C7: 備 考
B10: たりる資料を提供しなければならない。 | C10: この申請書を提出するときは、併せて当該呼称が戸籍簿に記載された氏名に代わるものとして広く通用していることを証するに
Y11: 通 称 認 定 申 請 書
E12: =一覧表!F10 -> 美郷町議会議員補欠選挙
K13: 令
K15: 和 | T15: 呼称 | V15: 候補者
K20: 年
U23: （ふりがな） | W23: （ふりがな）
K25: 月
E28: 選挙長
K30: 日
G32: 氏 | I32: 住
G34: 名 | I34: 所
E37: =一覧表!G5&" 様" -> 渡利 八壽男 様

Sheet 7.所属党派証明書
K1: 右の者は、本政党（政治団体）に所属する者であることを証明する。 | U1: 様式
U4: ７
S6: 所 属 党 派 証 明 書
H8: 令
H10: 和
N14: 住 | P14: 氏
H15: 年
N16: 所 | P16: 名
C19: 代表者（支部長、責任者） | E19: 政党（支部）（政治団体名）
H20: 月
H25: 日

Sheet 9.立候補届出事務代行証明書
B1: =" 上記の者は"&一覧表!C9&"執行の"&一覧表!F10&"における立候補届出に関する事務を私に代わって行う者であることを証明します。" -> 上記の者は令和８年１０月２５日執行の美郷町議会議員補欠選挙における立候補届出に関する事務を私に代わって行う者であることを証明します。
B3: 様式 9
B8: 立候補届出事務代行証明書
D13: 住 所
D15: 氏 名
D17: 生年月日 | J17: 年 | L17: 月 | N17: 日生
B23: =MID(B1,1,40) -> 上記の者は令和８年１０月２５日執行の美郷町議会議員補欠選挙における立候補届出に
B25: =MID(B1,41,40) -> 関する事務を私に代わって行う者であることを証明します。
D28: 令和 年 月 日
E33: 候補者（推薦届出代表者）
F35: 住 所
F37: 氏 名
B43: =一覧表!F10&"選挙長" -> 美郷町議会議員補欠選挙選挙長 | K43: =一覧表!G5&" 様" -> 渡利 八壽男 様

Sheet 10.立候補届出事務代行疎明書
B1: =" 私は が"&一覧表!C9&"執行の"&一覧表!F10&"における候補者となることについて、本人（推薦届出代表者）に代わってその立候補届出に関する事務を行う者に相違ありませんのでこの旨、疎明します。" -> 私は が令和８年１０月２５日執行の美郷町議会議員補欠選挙における候補者となることについて、本人（推薦届出代表者）に代わってその立候補届出に関する事務を行う者に相違ありませんのでこの旨、疎明します。
B3: 様式 10
B8: 立候補届出事務代行疎明書
B14: =MID(B1,1,40) -> 私は が令和８年１０月２５日執行の美郷町議会議員補欠選挙に
B16: =MID(B1,41,40) -> おける候補者となることについて、本人（推薦届出代表者）に代わってその立候補届出に
B18: =MID(B1,81,40) -> 関する事務を行う者に相違ありませんのでこの旨、疎明します。
C22: 令和 | E22: 年 | G22: 月 | I22: 日
F26: 住 所 | Q26: 番地
F28: 氏 名
F30: 生年月日 | L30: 年 | N30: 月 | P30: 日生
B36: =CONCATENATE(" ",[1]Sheet1!$G$3,"選挙長 ",[1]Sheet1!$G$5," 様") -> 美郷町議会議員一般選挙選挙長 渡利 八壽男 様

Sheet 11.推薦届出代表者証明書
B1: =" 上記の者は、"&一覧表!C9&"執行の"&一覧表!F10&"候補者 の推薦届出者の代表者であることを証明する。" -> 上記の者は、令和８年１０月２５日執行の美郷町議会議員補欠選挙候補者 の推薦届出者の代表者であることを証明する。
A2: 様式 11
D7: 推薦届出代表者証明書
D11: 推薦届出代表者 | F11: 住 所
F13: 氏 名
F15: 生年月日 | G15: 年 月 日生
B19: =MID(B1,1,40) -> 上記の者は、令和８年１０月２５日執行の美郷町議会議員補欠選挙候補者
C21: =MID(B1,41,40) -> の推薦届出者の代表者であることを証明する。
D25: 推薦届出者 | F25: 住 所
F27: 氏 名
F30: 住 所
F32: 氏 名
F35: 住 所
F37: 氏 名
F40: 住 所
F42: 氏 名
F45: 住 所
F47: 氏 名
B50: 備 考 | C50: 推薦届出者が選挙事務所を設置する場合において、推薦届出者が２名以上あるときは、
C51: 設置届出書に添付すること。

Sheet 12.候補者辞退届
A1: =" 右のとおり"&一覧表!BJ9&"執行の"&一覧表!F10&"において候補者たることを辞する旨の届出をします。" -> 右のとおり令和八年十月二十五日執行の美郷町議会議員補欠選挙において候補者たることを辞する旨の届出をします。
W3: 様式
K6: =MID(A1,40,39) -> ことを辞する旨の届出をします。 | M6: =MID(A1,1,39) -> 右のとおり令和八年十月二十五日執行の美郷町議会議員補欠選挙において候補者たる | W6: 12
U8: =一覧表!F10&"候補者辞退届" -> 美郷町議会議員補欠選挙候補者辞退届
C10: =一覧表!F10 -> 美郷町議会議員補欠選挙 | I10: 令 | R10: 候
I12: 和 | R12: 補
R14: 者
P16: 事 | R16: 氏
I17: 年
P18: 由 | R18: 名
I22: 月
C26: 選挙長 | F26: 氏
I27: 日
F28: 名
C35: =一覧表!$G$5&" 様" -> 渡利 八壽男 様

Sheet 13.選挙事務所設置届
B1: =" 次のとおり"&一覧表!C9&"執行の"&一覧表!F10&"における選挙事務所を設置したのでお届けします。" -> 次のとおり令和８年１０月２５日執行の美郷町議会議員補欠選挙における選挙事務所を設置したのでお届けします。
B2: 様式 13
E9: 選挙事務所設置届
L14: 令和 年 月 日
B18: 美郷町選挙管理委員会
C20: 委員長 | F20: =一覧表!$G$5&" 様" -> 渡利 八壽男 様
I24: 候補者 氏 名
I26: 設置者 住 所
K28: 氏 名
B32: =MID(B1,1,39) -> 次のとおり令和８年１０月２５日執行の美郷町議会議員補欠選挙における選挙事務所
B34: =MID(B1,40,39) -> を設置したのでお届けします。
B38: 選挙事務所所在地 | I38: 電話番号 | M38: 設置年月日
B40: 邑智郡美郷町 | M40: 令和 年 月 日

Sheet 14.選挙事務所移動届
B1: 様式 14
E8: 選挙事務所移動届
L13: 令和 年 月 日
B17: 美郷町選挙管理委員会
C19: 委員長 | F19: =一覧表!$G$5&" 様" -> 渡利 八壽男 様
I23: 候補者 氏 名
I25: 設置者 住 所
K27: 氏 名
B31: 次のとおり選挙事務所に移動があったのでお届けいたします。
B35: １ | C35: 旧所在地
B38: ２ | C38: 新所在地
B41: ３ | C41: 異動年月日 | G41: 令和 年 月 日
B44: ４ | C44: 電話番号

Sheet 15.選挙事務所設置（移動）承諾書
B2: 様式 15
D7: 選挙事務所設置（移動）承諾書
L12: 令和 年 月 日
B16: 推薦届出者
H18: 様
I22: 候補者 氏 名
K24: 氏 名
B28: 次のとおり選挙事務所の設置（移動）を承諾する。
B32: 選挙事務所所在地 | I32: 電話番号 | M32: 設置年月日
B34: 邑智郡美郷町 | M34: 令和 年 月 日
B42: 備 考 推薦届出者が選挙事務所を設置するときは、その届出書に添付すること。

Sheet 16.選挙立会人となるべき者の届出書
B1: =" 私は"&一覧表!C9&"執行の"&一覧表!F10&"における候補者 の選挙立会人になることを承諾します。" -> 私は令和８年１０月２５日執行の美郷町議会議員補欠選挙における候補者 の選挙立会人になることを承諾します。
B2: 様式 16
C10: 選挙立会人となるべき者の届出書（兼承諾書）
E14: 立会人となるべき者
F16: 住 所
F18: 氏 名
F20: 生年月日 | G20: 年 月 日生
B25: =MID(B1,1,40) -> 私は令和８年１０月２５日執行の美郷町議会議員補欠選挙における候補者
C27: =MID(B1,41,40) -> の選挙立会人になることを承諾します。
C32: 上記のとおり本人の承諾を得て届け出ます。
D35: 令和 年 月 日
F39: 候補者
B44: 美郷町議会議員一般選挙
D46: 選挙長 | E46: =[1]Sheet1!$G$5 -> 渡利 八壽男 | G46: 様

Sheet 17.出納責任者選任届
B1: 様式 17
E5: 出 納 責 任 者 選 任 届
N7: 令和 年 月 日
B9: 美郷町選挙管理委員会
D11: 委員長 | F11: =一覧表!$G$5&" 様" -> 渡利 八壽男 様
K14: 選任者 | M14: 住所
M16: 氏名
B19: 次のとおり届け出ます。
B21: １ | C21: 出納責任者 | F21: 氏名
F23: 住所
F25: 職業
F27: 生年月日 | I27: 年 月 日 生
F29: 選任年月日 | I29: 令和 年 月 日
B31: ２ | C31: =CONCATENATE([1]Sheet1!$E$3,"選挙候補者氏名") -> 選挙候補者氏名
C33: （１） | G33: を出納責任者に選任することを承諾する。
D35: 令和 年 月 日
K37: 候補者 | M37: 氏名
C39: （２） | G39: は候補者 | L39: の推薦届出者の代表者であることを証する。
K41: 推薦者 | M41: 住所
M43: 氏名
M46: 住所
M48: 氏名
M51: 住所
M53: 氏名
B57: 備考 １ 候補者がこの届出書を提出する場合は、（１）及び（２）は記載する必要はない。
B58: ２ 推薦届出者が１人の場合で当該推薦届出者がこの届出書を提出するときは、（２）は記載する必要はない。
B59: ３ 推薦届出者が２人以上あってその代表者がこの届出書を提出する場合は、全部記載する。

Sheet 18.出納責任者異動届
B1: 様式 18
F5: 出 納 責 任 者 異 動 届
N7: 令和 年 月 日
B8: 美郷町選挙管理委員会
D10: 委員長 | F10: =一覧表!$G$5&" 様" -> 渡利 八壽男 様
K12: 選任者 | M12: 住所
M14: 氏名
B16: 次のとおり届け出ます。
B18: １ | C18: 新旧出納責任者 | G18: 新任者 | I18: 氏名
I20: 住所
I22: 職業
I24: 生年月日 | L24: 年 月 日 生
I26: 選任年月日 | L26: 令和 年 月 日
G28: 旧任者 | I28: 氏名
B30: ２ | C30: 異動年月日 | G30: 令和 年 月 日
B32: ３ | C32: 異動の種別及び理由 | H32: （１） | I32: 解任理由 | L32: （解任書写しのとおり）
H34: （２） | I34: 辞任理由 | L34: （辞任書写しのとおり）
H36: （３） | I36: 死亡年月日 | L36: 令和 年 月 日
B38: ４ | C38: 候補者の氏名
C40: （１） | D40: 出納責任者 | J40: を解任することを承諾する。
E42: 令和 年 月 日 | M42: 候補者
C44: （２） | G44: は候補者 | L44: の推薦届出者の代表者であることを証する。
E46: 令和 年 月 日
K48: 推薦届出者 | M48: 住所
M50: 氏名
M52: 住所
M54: 氏名
M56: 住所
M58: 氏名
B60: 備考 １ 候補者がこの届出書を提出する場合は、（１）及び（２）は記載する必要はない。
B61: ２ 推薦届出者が１人の場合で当該推薦届出者がこの届出書を提出するときは、（２）は記載する必要はない。
B62: ３ 推薦届出者が２人以上あってその代表者がこの届出書を提出する場合は、全部記載する。
B63: ４ 解任による異動のときは、出納責任者解任書の写しを添付すること。
B64: ５ 辞任による異動のときは、出納責任者辞任届の写しを添付すること。

Sheet 19.出納責任者解任書
B2: 様式 19
F7: 出 納 責 任 者 解 任 書
N10: 令和 年 月 日
B12: 出納責任者
I14: 様
L17: 候補者又は推薦届出者
C23: １ | D23: 出納責任者の氏名
C25: ２ | D25: 解任の理由
D29: 候補者 | I29: の出納責任者を解任する。

Sheet 20.出納責任者辞任書
B2: 様式 20
F9: 出 納 責 任 者 辞 任 書
N12: 令和 年 月 日
B14: 選 任 者
I16: 様
L19: 出納責任者氏名
B25: 辞任の理由
C28: 上記の理由により候補者 | K28: の出納責任者を辞任したいのでお届けします。

Sheet 21.出納責任者職務代行届
A1: =" "&一覧表!C9&"執行の"&一覧表!F10&"における出納責任者の職務代行について次のとおり届出ます。" -> 令和８年１０月２５日執行の美郷町議会議員補欠選挙における出納責任者の職務代行について次のとおり届出ます。
A2: 様式 21
E7: 出納責任者職務代行開始（終了）届
M10: 令和 年 月 日
A13: 美郷町選挙管理委員会
C15: 委員長 | E15: =一覧表!$G$5&" 様" -> 渡利 八壽男 様
J18: 選任者 | L18: 住所
L20: 氏名
A24: =MID(A1,1,42) -> 令和８年１０月２５日執行の美郷町議会議員補欠選挙における出納責任者の職務代行につい
A26: =MID(A1,43,42) -> て次のとおり届出ます。
B29: １ | C29: 職務代行者氏名
B31: ２ | C31: 職務代行開始（終了）の理由
B33: ３ | C33: 職務代行開始（終了）年月日 | J33: 令和 年 月 日
B35: ４ | C35: 出納責任者氏名

Sheet 22.支出金額最高額
A1: =" "&一覧表!C9&"執行の"&一覧表!F10&"において出納責任者の支出できる金額の最高額を公職選挙法第１８０条第２項の規定により次のとおり定める。" -> 令和８年１０月２５日執行の美郷町議会議員補欠選挙において出納責任者の支出できる金額の最高額を公職選挙法第１８０条第２項の規定により次のとおり定める。
A2: 様式 22
A7: =MID(A1,1,40) -> 令和８年１０月２５日執行の美郷町議会議員補欠選挙において出納責任者の支出できる
A9: =MID(A1,41,40) -> 金額の最高額を公職選挙法第１８０条第２項の規定により次のとおり定める。
B13: 令和 年 月 日
C18: 一 金 | H18: 円也
F26: 出納責任者選任者
F30: 出 納 責 任 者

Sheet 23.報酬を支給する者
E1: 備考 | T1: 氏 名 | AF1: 届 出 書 | AJ1: 様式 23
AE2: 公職選挙法第百九十七条の二第二項の規定により報酬を支給する者を次のとおり届け出ます。 | AJ2: 様式
X3: 美郷町選挙管理委員会 委員長
A4: ものとする。 | B4: 二 すでに届け出た者につき、その者に係る使用する期間中、その者に代えて異なる者を届け出る場合においては、その者を「備考欄」に記載 | C4: に使用する者にあっては「手話通訳者」と記載するものとする。 | D4: り選挙運動のために使用される自動車又は船舶の上における選挙運動のために使用する者にあっては「車上運動員」と、専ら手話通訳のため | E4: 一 「使用する者の別」の欄には、選挙運動のために使用する事務員にあっては「事務員」と、専ら公職選挙法第百四十一条第一項の規定によ | AC4: 令和 年 月 日 | AJ4: 23
T10: 住 所
AA20: =一覧表!F10 -> 美郷町議会議員補欠選挙
T25: 使用する者の別 | V25: 記 | X25: =一覧表!G5&" 様" -> 渡利 八壽男 様
T32: 年齢
AA34: 候補者
T36: 性別
T40: 使用する期間
T52: 備考

Sheet 24.選挙運動費用収支報告書
B1: 様式 24
D12: 選挙運動費用収支報告書
E14: （領収書等を徴し難い事情があった支出の明細書は末尾に綴込んであります）
A32: 選挙運動費用収支報告書
B34: １． | C34: =一覧表!C9&"執行" -> 令和８年１０月２５日執行 | I34: =一覧表!F10 -> 美郷町議会議員補欠選挙
B36: ２． | C36: 公 職 の 候 補 者 | H36: 住所
H38: 氏名
B40: （第 回分）
B43: ３． | C43: 令和 年 月 日 から
C45: 令和 年 月 日 まで
B47: ４． | C47: 収入の部
B49: 月日 | E49: 金額又は見積額 | I49: 種別 | K49: 寄附をした者 | W49: 金銭以外の寄付 及びその他の収入 の見積の根拠 | AA49: 備考
K50: 住所又は主たる 事務所の所在地 | O50: 氏名又は団体名 | S50: 職業
H52: 円
B66: 月日 | E66: 金額又は見積額 | I66: 種別 | K66: 寄附をした者 | W66: 金銭以外の寄付 及びその他の収入 の見積の根拠 | AA66: 備考
K67: 住所又は主たる 事務所の所在地 | O67: 氏名又は団体名 | S67: 職業
H69: 円
B100: 月日 | E100: 金額又は見積額 | I100: 種別 | K100: 寄附をした者 | W100: 金銭以外の寄付 及びその他の収入 の見積の根拠 | AA100: 備考
K101: 住所又は主たる 事務所の所在地 | O101: 氏名又は団体名 | S101: 職業
H103: 円
B113: 計 | C113: 寄附
C115: その他 の収入
C117: 計
B119: 前回計 | C119: 寄附
C121: その他 の収入
C123: 計
B125: 総額 | C125: 寄附
C127: その他 の収入
C129: 総計
B133: ５． | C133: 支出の部
B134: 月日 | E134: 金額又は見積額 | I134: 区分 | K134: 支出の 目 的 | M134: 支出を受けた者 | X134: 金銭以外の寄付 及びその他の収入 の見積の根拠 | AB134: 備考
M135: 住所又は主たる 事務所の所在地 | Q135: 氏名又は団体名 | U135: 職業
H137: 円
B168: 月日 | E168: 金額又は見積額 | I168: 区分 | K168: 支出の 目 的 | M168: 支出を受けた者 | X168: 金銭以外の寄付 及びその他の収入 の見積の根拠 | AB168: 備考
M169: 住所又は主たる 事務所の所在地 | Q169: 氏名又は団体名 | U169: 職業
H171: 円
B200: 月日 | E200: 金額又は見積額 | I200: 区分 | K200: 支出の 目 的 | M200: 支出を受けた者 | X200: 金銭以外の寄付 及びその他の収入 の見積の根拠 | AB200: 備考
M201: 住所又は主たる 事務所の所在地 | Q201: 氏名又は団体名 | U201: 職業
H203: 円
B205: 計 | C205: 立候補準備のための支出
...

Sheet 24.継紙（収入・支出）
A1: 収入用
C3: 月日 | F3: 金額又は見積額 | J3: 種別 | L3: 寄附をした者 | X3: 金銭以外の寄付 及びその他の収入 の見積の根拠 | AB3: 備考
L4: 住所又は主たる 事務所の所在地 | P4: 氏名又は団体名 | T4: 職業
I6: 円
A36: 支出用
C37: 月日 | F37: 金額又は見積額 | J37: 区分 | L37: 支出の 目 的 | N37: 支出を受けた者 | Y37: 金銭以外の寄付 及びその他の収入 の見積の根拠 | AC37: 備考
N38: 住所又は主たる 事務所の所在地 | R38: 氏名又は団体名 | V38: 職業
I40: 円

Sheet 25.領収書等徴収しがたい支出の明細書
A1: 様式 25
C2: 領収書等を徴し難い事情があった支出の明細書
A3: 支出の年月日 | D3: 支出の金額 | H3: 区分 | K3: 支出の目的 | S3: 領 収 書 そ の 他 の 支 出 を 証 す べ き 書 面 を 徴 し 難 か っ た 事 情
G5: 円
B28: １． | C28: =一覧表!C9 -> 令和８年１０月２５日 | I28: =一覧表!F10 -> 美郷町議会議員補欠選挙
B30: ２． | C30: 公職の候補者 | I30: 住所
I32: 氏名
B34: ３． | C34: 出納責任者 | I34: 住所
I36: 氏名
A38: 備 考 | C38: １．「区分」の欄には、立候補準備のために要した費用及び選挙運動のために支出した費用の区別を明記するものとする。
C39: ２．「支出の目的」の欄には、支出の目的（謝金、人夫賃、家屋贈与等）、員数等を記載するものとする。

Sheet 26.　選挙公報掲載申請書
A1: =" 美郷町選挙公報発行条例第３条の規定により、"&一覧表!C9&"に行われる"&一覧表!F10&"における選挙公報に掲載願いたいので、次のとおり申請します。" -> 美郷町選挙公報発行条例第３条の規定により、令和８年１０月２５日に行われる美郷町議会議員補欠選挙における選挙公報に掲載願いたいので、次のとおり申請します。
A2: 様式 26
H5: 選 挙 公 報 掲 載 申 請 書
U8: 令和 年 月 日
A11: 美郷町選挙管理委員会
C13: 委員長 | G13: =一覧表!G5&" 様" -> 渡利 八壽男 様
P16: （ふりがな）
P17: 候補者氏名
P18: （署名すること）
A22: =MID(A1,1,42) -> 美郷町選挙公報発行条例第３条の規定により、令和８年１０月２５日に行われる美郷町議会
A24: =MID(A1,43,40) -> 議員補欠選挙における選挙公報に掲載願いたいので、次のとおり申請します。
C27: １ | E27: 掲 載 文
C29: ２ | E29: 連絡場所及び電話番号
E31: （１） | F31: 連絡場所
E33: （２） | F33: 電話番号

Sheet 26.（別紙）公報掲載文原稿用紙
A1: （ 別 紙 ）
A2: 様式第２号(第２条関係)
E3: 選 挙 公 報 掲 載 文 原 稿 用 紙
AD8: (写真）
D16: （掲載文）
AD18: (氏名）
A40: ・美郷町選挙管理委員会 〔※印欄は、記入しないでください。〕
A42: 受付日時 | I42: 受付番号 | L42: 受付者 | O42: 記載順序 | S42: 候補者氏名
A45: ※ | I45: ※ | L45: ※ | O45: ※ | S45: 連絡場所
A46: 令和 年 月 日
A47: 午前・午後 時 分 | S47: （電話番号） | X47: （ - ）

Sheet 27.　公報掲載文撤回申請書
A1: 様式第 27
F4: 選挙公報掲載文（掲載写真）撤回申請書
U7: 令和 年 月 日
A10: 美郷町選挙管理委員会
C12: 委員長 | G12: =一覧表!G5&" 様" -> 渡利 八壽男 様
P15: （ふりがな）
P16: 候補者氏名
P17: （署名すること）
A21: 令和 年 月 日に申請した選挙公報の掲載文（写真）を撤回したいので申請
A23: します。
B29: 備考 候補者の印は選挙公報掲載申請書に使用したものと同一とすること。

Sheet 28.候補掲載文修正申請書
A1: 様式 28
E4: 選挙公報掲載文修正（掲載写真取替）申請書
U7: 令和 年 月 日
A10: 美郷町選挙管理委員会
C12: 委員長 | G12: =一覧表!G5&" 様" -> 渡利 八壽男 様
P15: （ふりがな）
P16: 候補者氏名
P17: （署名すること）
A21: 令和 年 月 日に申請した選挙公報の掲載文（写真）を修正（取替）したい
A23: ので申請します。
B29: 備考 候補者の印は選挙公報掲載申請書に使用したものと同一とすること。

Sheet 29.設備外積載許可申請書
B1: 様式 29
H3: 制限外積載 | P3: 許可申請書
H4: 設備外積載
H5: 荷台乗車
X7: 令 | Y7: 和 | AB7: 年 | AE7: 月 | AH7: 日
C8: 川本警察署長 様
Q10: 住 所 | AF10: 番地
N11: 申請者
Q12: 氏 名
C14: 申請者の免許の種類 | R14: 免許証番号
C16: 車両の種類 | R16: 番号表に表示されている番号
C18: 車両の諸元 | L18: 長さ | R18: 幅 | X18: 高さ | AD18: 最大積載量
Q20: m | W20: m | AC20: m | AI20: ㎏
C22: 運搬品名
C24: 制限をこえる大きさ | L24: 長さ | R24: 幅 | X24: 高さ | AD24: 最大積載量
C26: 又は重量 | Q26: m | W26: m | AC26: m | AI26: ㎏
C28: 制限をこえる | L28: 前 | R28: 後 | X28: 左 | AD28: 右
C30: 積載の方法 | Q30: m | W30: m | AC30: m | AI30: m
C32: 設備外積載の場所 | S32: 荷台に乗せる人員
C36: 運転の期間 | M36: 年 月 日から 年 月 日まで
C38: 運転経路 | L38: 出発地 | T38: 経由地 | AB38: 目的地
L42: 運行する道路
D45: 第 | H45: 号
L46: 制限外許可証
F49: 上記のとおり許可する。ただし、次の条件に従うこと。
E51: 条件
U53: 令 | V53: 和 | Y53: 年 | AB53: 月 | AE53: 日
Y55: 川本警察署長
B58: 備考 １ 申請者は、氏名を記載し及び押印することに代えて、署名することができる。
B59: ２ 用紙の大きさは、日本産業規格Ａ列４番とする。
C61: 立候補者氏名
G64: 交代運転者 | L64: （交代運転者の記入のない者は申請者のみしか運転できない。）
B67: 住 所 | M67: 氏 名 | W67: 免許種別 | AA67: 免許番号
M78: 選挙運動用自動車姿図

Sheet 30.個人演説会開催申込書
B1: 様式 30
F4: 個 人 演 説 会 開 催 申 込 書
M7: 令和 年 月 日
B10: 美郷町選挙管理委員会
D12: 委員長 | F12: =一覧表!G5&" 様" -> 渡利 八壽男 様
I15: 候補者 | K15: 住 所
K17: 氏 名
K19: 連絡先
B23: 個人演説会を次のとおり開催したいので、公職選挙法第１６３条の規定により申し出ます。
B26: 会 場 | G26: 開催日時 | L26: 候補者
L28: 氏名 | Q28: 党派
G30: 令和 年 月 日

Sheet 33.選挙運動通常葉書差出票
C2: （表面） | AH2: （裏面）
C3: 様式 33
A5: 選挙運動用通常葉書差出票
C7: 差出票番号 | L7: 第 | P7: 号 | AI7: 同一のものを差出しの都度使用するものとし、１回の差出通数又は差出 | AJ7: １ 使用上の心得
C8: 発行者氏名 | L8: =一覧表!F10 -> 美郷町議会議員補欠選挙
AI9: １００通以内ごとに別葉の差出票を使用すること。 | AJ9: （１）この差出票は、１枚につき差出通数の累計が１００通以内となるまで、
P10: 選挙長 | T10: =一覧表!G5 -> 渡利 八壽男 | AJ10: 同一のものを差出しの都度使用するものとし、１回の差出通数又は差出
AI11: １枚の差出票による差出通数の差出時までの分の累計を記入すること。 | AJ11: 通数の累計が１００通を超えることとなるときは、その超える分につき
C12: 候補者氏名 | L12: =一覧表!F10 -> 美郷町議会議員補欠選挙 | AJ12: １００通以内ごとに別葉の差出票を使用すること。
P14: 候補者 | AJ14: （２）差出通数には１回の差出しごとの差出通数を記入し差出合計数欄には
AJ15: １枚の差出票による差出通数の差出時までの分の累計を記入すること。
C16: この差出票による差出制限枚数 | Y16: 通
AI17: を押し、かつ、２枚目以下の差出票の記入欄に朱色の斜線を施すこと。 | AJ17: （３）同時に２００通以上を差出すときは、１００通の整数倍となる通数に
C18: 差出月日 | K18: 差出通数 | R18: 差出合計数 | Y18: 備考 | AJ18: つき、１００通ごとに１枚として数えた枚数の差出票をとじ合わせ、１
AI19: 押すこと。 | AJ19: 枚目の差出票の最初の記入欄に１００通未満の端数を除いた全通数を記
AJ20: 入することができる。この場合においては、１枚目の差出票の記入欄の
AJ21: ２行目以下にとじ合わせた差出票枚数を記入し、その傍らに差出人の印
AJ22: を押し、かつ、２枚目以下の差出票の記入欄に朱色の斜線を施すこと。
AJ24: （４）差出通数及び差出合計数を訂正したときは、差出人において訂正印を
AJ25: 押すこと。
AJ27: ２ 郵便物差出し上の注意
AJ29: （１）選挙運動用通常葉書は、必ず差出票を添えて集配郵便局の窓口に差出
AJ30: すこと。
AJ32: （２）選挙運動用通常葉書は、なるべく早く差出すこと。
C61: 注：備考欄は、郵便局で使用する欄ですから記入しないで下さい。

Sheet 34.選挙運動用ビラ届
B1: =" "&一覧表!C9&"執行の"&一覧表!F10&"において、公職選挙法第１４２条第１項第７項の規定により頒布するビラは、別添のとおりですので届出ます。" -> 令和８年１０月２５日執行の美郷町議会議員補欠選挙において、公職選挙法第１４２条第１項第７項の規定により頒布するビラは、別添のとおりですので届出ます。
B2: 様式 34
F6: 選挙運動用ビラ届
B14: =MID(B1,1,40) -> 令和８年１０月２５日執行の美郷町議会議員補欠選挙において、公職選挙法第１４２条
B16: =MID(B1,41,41) -> 第１項第７項の規定により頒布するビラは、別添のとおりですので届出ます。
B18: =MID(B1,82,40)
C23: 令和 年 月 日
C27: 美郷町選挙管理委員会委員長 様
I32: 候補者 住所
I35: 氏名

Sheet 35.選挙運動用ビラ証紙交付申請書
A1: 様式 35
M4: 令和 年 月 日
B8: 美郷町選挙管理委員会委員長 様
I11: 候補者氏名
E17: 選挙運動用ビラ証紙交付申請書
A22: 下記のとおり証紙の交付を受けたいので申請します。
A25: 記
B28: 選挙名 | F28: =一覧表!C9&"執行" -> 令和８年１０月２５日執行 | L28: =一覧表!F10 -> 美郷町議会議員補欠選挙
B30: 候補者名
B32: 交付申請枚数 | K32: 枚
